BEGIN:VCALENDAR
VERSION:2.0
PRODID:icalendar-ruby
CALSCALE:GREGORIAN
METHOD:PUBLISH
BEGIN:VEVENT
DTSTAMP:20260424T141647Z
UID:382-169232@victoriouspraise.org
DTSTART:20260510T120000Z
DTEND:20260510T130000Z
CLASS:PUBLIC
CREATED:20260423T175600
DESCRIPTION: Become a Children’s Church Teacher\nBe a Light. Change a Li
 fe.\nDo you love God and enjoy working with children? Join our Children’
 s Ministry team and help kids grow in faith\, build friendships\, and expe
 rience God’s love.\n What You Need:\n\nLove for God\nHeart for kids\nWi
 llingness to serve\nAbility to pass a background check\n\nReady to Serve?\
 nYour “yes” can make a lasting impact.\nRegister today and join the te
 am!
LAST-MODIFIED:20260423T175600
LOCATION:
SUMMARY:Children's Church
URL;VALUE=URI:https://victoriouspraise.org/events/childrens-church/2026-05-
 10
ATTACH;FILENAME=ChildrensChurch.jpeg;FMTTYPE=image/jpeg:https://dq5pwpg1q8r
 u0.cloudfront.net/2026/04/23/21/39/33/3cb59e21-d385-4595-9943-8e3d3bf8a715
 /ChildrensChurch.jpeg
END:VEVENT
END:VCALENDAR
